BEGIN:VCALENDAR
VERSION:2.0
PRODID:-//Føns vig jollehavn//NONSGML kigkonsult.se iCalcreator 2.41.92//
CALSCALE:GREGORIAN
METHOD:PUBLISH
UID:31323030-3163-4034-b136-386265396435
X-WR-CALNAME:iCagenda
X-WR-CALDESC:Event Management Extension for Joomla!
X-WR-RELCALID:3E26604A-50F4-4449-8B3E-E4F4932D05B5
X-WR-TIMEZONE:UTC
BEGIN:VTIMEZONE
TZID:UTC
END:VTIMEZONE
BEGIN:VEVENT
UID:37343064-3831-4330-a434-323037336531
DTSTAMP:20260419T141627Z
CATEGORIES:Datoer
CLASS:PUBLIC
DESCRIPTION;ALTREP="CID:<FFFF__=0ABBE548DFE235B58f9e8a93d@coffeebean.com>":
 Husk at udeblivelse fra arbejds week-end vil medføre en opkrævning på 100 
 kr. i timen.\nAllearbejds week-ender starter klokken 8\,30 med rundstykker
  og kaffe\nTil frokost er klobben vært for 1 øl eller vand + frokost
DTSTART:20260509T083000Z
DTEND:20260509T174600Z
GEO:00;0
LOCATION:
ORGANIZER:
SEQUENCE:1
SUMMARY:Arbejds week-end
TRANSP:OPAQUE
URL:https://www.foensvigjollehavn.dk/index.php/datoer/arbejds-week-end
END:VEVENT
END:VCALENDAR
