BEGIN:VCALENDAR
VERSION:2.0
PRODID:-//Føns vig jollehavn//NONSGML kigkonsult.se iCalcreator 2.41.92//
CALSCALE:GREGORIAN
METHOD:PUBLISH
UID:65653363-6161-4736-b534-363637323861
X-WR-CALNAME:iCagenda
X-WR-CALDESC:Event Management Extension for Joomla!
X-WR-RELCALID:3E26604A-50F4-4449-8B3E-E4F4932D05B5
X-WR-TIMEZONE:UTC
BEGIN:VTIMEZONE
TZID:UTC
END:VTIMEZONE
BEGIN:VEVENT
UID:64396235-3737-4332-a566-303264333436
DTSTAMP:20260419T141627Z
CATEGORIES:Datoer
CLASS:PUBLIC
DESCRIPTION;ALTREP="CID:<FFFF__=0ABBE548DFE235B58f9e8a93d@coffeebean.com>":
 Husk at udeblivelse fra arbejds week-end vil medføre en opkrævning på 100 
 kr. i timen.\nAllearbejds week-ender starter klokken 8\,30 med rundstykker
  og kaffe\nTil frokost er klobben vært for 1 øl eller vand + frokost
DTSTART:20260530T083000Z
DTEND:20260530T170000Z
GEO:00;0
LOCATION:
ORGANIZER:
SEQUENCE:1
SUMMARY:Arbejds week-end
TRANSP:OPAQUE
URL:https://www.foensvigjollehavn.dk/index.php/datoer/arbejds-week-end-2
END:VEVENT
END:VCALENDAR
